BEGIN:VCALENDAR
VERSION:2.0
PRODID://MusicLiveCOLCHESTER//musiclivecolchester.com//EN
BEGIN:VEVENT
SUMMARY:Albion Breaks
DTSTART:20260613T213000
DTEND:20260613T013000
DTSTAMP:20260423T130835Z
UID:albion-breaks
DESCRIPTION:
GEO:52.0559513;1.1550941
LOCATION:Plough\, Ipswich
URL:https://musicliveeast.com/gigs/albion-breaks
END:VEVENT
END:VCALENDAR
