BEGIN:VCALENDAR
VERSION:2.0
PRODID://MusicLiveCOLCHESTER//musiclivecolchester.com//EN
BEGIN:VEVENT
SUMMARY:BTCP: Sam Milne & The Tyrants + Mincer + Sophiethegreat + New Gen
DTSTART:20251203T190000
DTEND:20251203T230000
DTSTAMP:20260423T090339Z
UID:btcp-new-gen-sam-milne-the-tyrants-mincer-sophieth
DESCRIPTION:A packed line up of local independent artists
GEO:52.0615249;1.1447993
LOCATION:The Smokehouse
URL:https://musicliveeast.com/gigs/btcp-new-gen-sam-milne-the-tyrants-minc
 er-sophieth
END:VEVENT
END:VCALENDAR
