BEGIN:VCALENDAR
VERSION:2.0
PRODID://MusicLiveCOLCHESTER//musiclivecolchester.com//EN
BEGIN:VEVENT
SUMMARY:Burning Rope
DTSTART:20260503T160000
DTEND:20260503T200000
DTSTAMP:20260423T130740Z
UID:burning-rope
DESCRIPTION:
GEO:51.735982;0.4671984
LOCATION:Hot Box Chelmsford
URL:https://musicliveeast.com/gigs/burning-rope
END:VEVENT
END:VCALENDAR
