BEGIN:VCALENDAR
VERSION:2.0
PRODID://MusicLiveCOLCHESTER//musiclivecolchester.com//EN
BEGIN:VEVENT
SUMMARY:CQ Wrestling
DTSTART:20260529T190000
DTEND:20260529T223000
DTSTAMP:20260423T102221Z
UID:cq-wrestling
DESCRIPTION:
GEO:52.6247159;1.3025761
LOCATION:The Adrian Flux Waterfront Studio
URL:https://musicliveeast.com/gigs/cq-wrestling
END:VEVENT
END:VCALENDAR
