BEGIN:VCALENDAR
VERSION:2.0
PRODID://MusicLiveCOLCHESTER//musiclivecolchester.com//EN
BEGIN:VEVENT
SUMMARY:Dad Manners
DTSTART:20261205T190000
DTEND:20261205T223000
DTSTAMP:20260423T130927Z
UID:dad-manners-voodoo-daddys-showroom
DESCRIPTION:Tribute band
GEO:52.6299277;1.2970212
LOCATION:Voodoo Daddy's Showroom
URL:https://musicliveeast.com/gigs/dad-manners-voodoo-daddys-showroom
END:VEVENT
END:VCALENDAR
