BEGIN:VCALENDAR
VERSION:2.0
PRODID://MusicLiveCOLCHESTER//musiclivecolchester.com//EN
BEGIN:VEVENT
SUMMARY:Glimmer + Narcolepsy + Canvas Tile
DTSTART:20260718T190000
DTSTAMP:20260423T102302Z
UID:glimmer-narcolepsy-canvas-tile-voodoo-daddys-showr
DESCRIPTION:
GEO:52.6299277;1.2970212
LOCATION:Voodoo Daddy's Showroom
URL:https://musicliveeast.com/gigs/glimmer-narcolepsy-canvas-tile-voodoo-d
 addys-showr
END:VEVENT
END:VCALENDAR
