BEGIN:VCALENDAR
VERSION:2.0
PRODID://MusicLiveCOLCHESTER//musiclivecolchester.com//EN
BEGIN:VEVENT
SUMMARY:Hi-On Maiden
DTSTART:20260919T200000
DTEND:20260919T233000
DTSTAMP:20260423T103805Z
UID:hi-on-maiden-peterborough-tickets-at-the-met-loung
DESCRIPTION:
GEO:52.5706636;-0.242298
LOCATION:The Met Lounge
URL:https://musicliveeast.com/gigs/hi-on-maiden-peterborough-tickets-at-th
 e-met-loung
END:VEVENT
END:VCALENDAR
