BEGIN:VCALENDAR
VERSION:2.0
PRODID://MusicLiveCOLCHESTER//musiclivecolchester.com//EN
BEGIN:VEVENT
SUMMARY:James Walsh (Starsailor) & Ben Ottewell (Gomez)
DTSTART:20260607T190000
DTEND:20260607T223000
DTSTAMP:20260423T131122Z
UID:james-walsh-starsailor-ben-ottewell-gomez-norwich-
DESCRIPTION:
GEO:52.6247159;1.3025761
LOCATION:The Adrian Flux Waterfront
URL:https://musicliveeast.com/gigs/james-walsh-starsailor-ben-ottewell-gom
 ez-norwich-
END:VEVENT
END:VCALENDAR
