BEGIN:VCALENDAR
VERSION:2.0
PRODID://MusicLiveCOLCHESTER//musiclivecolchester.com//EN
BEGIN:VEVENT
SUMMARY:Luke Fisher & The Ghost Tides + The Frestonians + Ross Stewart
DTSTART:20260523T193000
DTEND:20260523T230000
DTSTAMP:20260423T131159Z
UID:luke-fisher-the-ghost-tides-the-frestonians-ross-s
DESCRIPTION:Rising from the meeting point of Americana and the restless pu
 lse of punk
GEO:52.0615249;1.1447993
LOCATION:The Smokehouse
URL:https://musicliveeast.com/gigs/luke-fisher-the-ghost-tides-the-freston
 ians-ross-s
END:VEVENT
END:VCALENDAR
