BEGIN:VCALENDAR
VERSION:2.0
PRODID://MusicLiveCOLCHESTER//musiclivecolchester.com//EN
BEGIN:VEVENT
SUMMARY:Moving Pictures – A Tribute To Rush
DTSTART:20260228T183000
DTEND:20260228T220000
DTSTAMP:20260422T142351Z
UID:moving-pictures-a-tribute-to-rush
DESCRIPTION:Tribute band
GEO:52.6247159;1.3025761
LOCATION:The Adrian Flux Waterfront
URL:https://musicliveeast.com/gigs/moving-pictures-a-tribute-to-rush
END:VEVENT
END:VCALENDAR
