BEGIN:VCALENDAR
VERSION:2.0
PRODID://MusicLiveCOLCHESTER//musiclivecolchester.com//EN
BEGIN:VEVENT
SUMMARY:Currls + Sadie Nencini + tayste
DTSTART:20260512T190000
DTEND:20260512T223000
DTSTAMP:20260423T131122Z
UID:new-noise-currls-sadie-nencini-tayste-voodoo-daddy
DESCRIPTION:
GEO:52.6299277;1.2970212
LOCATION:Voodoo Daddy's Showroom
URL:https://musicliveeast.com/gigs/new-noise-currls-sadie-nencini-tayste-v
 oodoo-daddy
END:VEVENT
END:VCALENDAR
