BEGIN:VCALENDAR
VERSION:2.0
PRODID://MusicLiveCOLCHESTER//musiclivecolchester.com//EN
BEGIN:VEVENT
SUMMARY:Odette Michell and Craig Joiner
DTSTART:20250921T160000
DTEND:20250921T190000
DTSTAMP:20260423T085828Z
UID:odette-michell-and-craig-joiner
DESCRIPTION:Outstanding folk talents
GEO:51.735982;0.4671984
LOCATION:Hot Box Chelmsford
URL:https://musicliveeast.com/gigs/odette-michell-and-craig-joiner
END:VEVENT
END:VCALENDAR
