BEGIN:VCALENDAR
VERSION:2.0
PRODID://MusicLiveCOLCHESTER//musiclivecolchester.com//EN
BEGIN:VEVENT
SUMMARY:Snakes + Arcane Moon
DTSTART:20250314T190000
DTEND:20250314T234500
DTSTAMP:20260423T120536Z
UID:snakes-arcane-moon
DESCRIPTION:One of Chelmsford’s best-loved bands
GEO:51.735982;0.4671984
LOCATION:Hot Box Chelmsford
URL:https://musicliveeast.com/gigs/snakes-arcane-moon
END:VEVENT
END:VCALENDAR
