BEGIN:VCALENDAR
VERSION:2.0
PRODID://MusicLiveCOLCHESTER//musiclivecolchester.com//EN
BEGIN:VEVENT
SUMMARY:Snakes + Agita + Sam Milne
DTSTART:20251107T190000
DTEND:20251107T000000
DTSTAMP:20260423T090233Z
UID:snakes-x-agita-x-sam-milne
DESCRIPTION:One of Chelmsford’s best-loved bands
GEO:51.735982;0.4671984
LOCATION:Hot Box Chelmsford
URL:https://musicliveeast.com/gigs/snakes-x-agita-x-sam-milne
END:VEVENT
END:VCALENDAR
