BEGIN:VCALENDAR
VERSION:2.0
PRODID://MusicLiveCOLCHESTER//musiclivecolchester.com//EN
BEGIN:VEVENT
SUMMARY:When Waterfront Was Young
DTSTART:20260606T170000
DTEND:20260606T230000
DTSTAMP:20260423T101301Z
UID:when-waterfront-was-young
DESCRIPTION:One-of-a-kind emo tribute festival
GEO:52.6247159;1.3025761
LOCATION:The Adrian Flux Waterfront
URL:https://musicliveeast.com/gigs/when-waterfront-was-young
END:VEVENT
END:VCALENDAR
